Workbook
Name ejecucion: #REF!
Name Ejecución_administración_de_procesos: 'Atributos '!$A$17:$A$26
Name EventoExterno: 'Atributos '!$F$17
Name F_RIESGO: Tabla4[#All]
Name FRIESGO: Tabla4[#All]
Name Infraestructura: 'Atributos '!$E$17
Name TalentoHumano: 'Atributos '!$C$17:$C$21
Name Tecnología: 'Atributos '!$D$17:$D$22
Name Transacción_u_Operación_aplica_para_LAFTFP: 'Atributos '!$B$17:$B$21

Sheet MATRIZ INSTITUCIONAL DE RIESGOS
A1: Mapa Riesgos Institucional Gestión, Seguridad de la información, Fiscales y riesgos de integridad publica | AV1: Código: SIG-M06 | FY1: Impacto | FZ1: tipologia del riesgo | GA1: clasificación del riesgo | GB1: Criterios de impacto | GC1: Afectación | GD1: tipo | GE1: Implementación | GF1: Documentación | GG1: Frecuencia | GH1: Evidencia | GI1: Tratamiento | GJ1: Estado
AV2: Versión: 09 | FY2: Reputacional | FZ2: Gestión | GA2: Ejecución y Administración de Procesos | GB2: GESTIÓN Y SEGURIDAD DE LA INFORMACIÓN | GC2: Probabilidad | GD2: Preventivo | GE2: Automático | GF2: Documentado | GG2: Contínua | GH2: Con registro | GI2: Aceptar | GJ2: Finalizado
AV3: Actualizacion: 01/08/2026 | FY3: Económico | FZ3: Corrupción | GA3: Fraude externo | GB3: Afectación Económica (o presupuestal) | GC3: Impacto | GD3: Detectivo | GE3: Manual | GF3: Sin documentar | GG3: Aleatoria | GH3: Sin registro | GI3: Evitar | GJ3: En curso
A4: Proceso: | FY4: Reputacional y económico | FZ4: Seguridad de la información | GA4: Fraude interno | GB4: Afectación menor a 10 SMLMV | GD4: Correctivo | GI4: Reducir (Compartir)
A5: Objetivo: | GA5: Fallas tecnológicas | GB5: Entre 10 y 50 SMLMV | GI5: Reducir (Mitigar)
A6: Alcance: | GA6: Fiscales | GB6: Entre 50 y 100 SMLMV
A7: Identificación del riesgo | P7: Análisis del riesgo inherente | V7: Evaluación del riesgo - Valoración de los controles | AF7: Evaluación del riesgo - Nivel del riesgo residual | AP7: Plan de Acción | GA7: Contables | GB7: Entre 100 y 500 SMLMV | GE7: Automatico y Manual
A8: Referencia | B8: Proceso | C8: Factor De Riesgo | D8: Fuente Generadora Del Evento | E8: Descripción Del Tipo De Factor De Riesgo | F8: Tipología | G8: Clasificación del riesgo | H8: IMPACTO | I8: Causa inmediata | J8: Causa raíz | K8: Descripción del riesgo | L8: Procedimiento o documento asociado | M8: Clasificación del riesgo | N8: Activo de información | O8: Frecuencia con la que se realiza la actividad | P8: Probabilidad inherente | Q8: % | R8: Criterios de impacto | S8: Impacto inherente | T8: % | U8: Zona de riesgo inherente | V8: N° control | W8: Descripción del control | X8: Afectación | Y8: tipo | Z8: Implementación | AA8: Calificación | AB8: Documentación | AC8: Frecuencia | AD8: Evidencia (Trazabilidad de la ejecución) | AE8: Ejecución | AF8: Probabilidad residual | AG8: % Probabilidad Residual Final | AJ8: Impacto residual | AK8: % Impacto Residual Final | AN8: Zona de riesgo Final | AO8: Tratamiento | AP8: Plan de acción | AQ8: Responsable | AR8: Fecha de implementación | AS8: Fecha de seguimiento Inicio/Fin | AT8: Seguimientos realizados | AU8: Estado | AV8: Indicador | AW8: Desempeño del control | AX8: I SEGUIMIENTO RIESGOS A ABRIL 30 | AY8: II SEGUIMIENTO A AGOSTO 30 | GA8: Relaciones laborales Usuarios, productos y prácticas | GB8: Mayor a 500 SMLMV
A9: 1 | B9: GESTION GERENCIAL | C9: Ejecución_administración_de_procesos | D9: Falta de aplicación de los procedimientos | E9: =IFERROR(VLOOKUP(C9,Tabla4[#All],2,0),"") -> Eventos relacionados con la ejecución de los procesos y procedimientos determinados para la operación de la entidad, uso de sistemas de información, por errores en las actividades que deben realizar los servidores de la organización. Estructura organizacional que afecta la capacidad organizacional | F9: Gestión | G9: Ejecución y Administración de Procesos | H9: Reputacional y económico | I9: Sanciones disciplinarias e investigaciones por parte de los organismos de control | J9: emisión de políticas institucionales sin los requerimientos de ley. | K9: Posibilidad de afectación económica y reputacional por sanciones disciplinarias e investigaciones por parte de los organismos de control debido a la emisión de políticas institucionales sin los requerimientos de ley. | L9: PROCEDIMIENTO PARA LA PLANEACCIÓN ESTRATEGICA | M9: Ejecución y Administración de Procesos | N9: n/a | O9: 1 | P9: =IF(AND(O9<=2),"Muy Baja",IF(AND(O9>=3,O9<=23),"Baja",IF(AND(O9>=24,O9<=499),"Media",IF(AND(O9>=500,O9<=4999),"Alta",IF(AND(O9>=5000),"Muy Alta",FALSE))))) -> Muy Baja | Q9: =IF(AND(O9<=2),"20%",IF(AND(O9>=3,O9<=23),"40%",IF(AND(O9>=24,O9<=499),"60%",IF(AND(O9>=500,O9<=4999),"80%",IF(AND(O9>=5000),"100%",FALSE))))) -> 20% | R9: Afectación menor a 10 SMLMV | S9: =IF(AND(R9=$GB$4),"Leve",IF(AND(R9=$GB$5),"Menor",IF(AND(R9=$GB$6),"Moderado",IF(AND(R9=$GB$7),"mayor",IF(AND(R9=$GB$8),"Catastrófico",IF(AND(R9=$GB$10),"Leve",IF(AND(R9=$GB$11),"Menor",IF(AND(R9=$GB$12),"Moderado",IF(AND(R9=$GB$13),"Mayor",IF(AND(R9=$GB$14),"Catastrófico",FALSE)))))))))) -> Leve | T9: =IF(AND(S9="Leve"),"20%",IF(AND(S9="Menor"),"40%",IF(AND(S9="Moderado"),"60%",IF(AND(S9="Mayor"),"80%",IF(AND(S9="Catastrófico"),"100%",""))))) -> 20% | U9: =INDEX('MATRIZ DE CALOR '!$D$6:$H$10,MATCH(P9,'MATRIZ DE CALOR '!$C$6:$C$10,),MATCH(S9,'MATRIZ DE CALOR '!$D$5:$H$5,)) -> Bajo | V9: 1 | W9: El Director del ITA verifica las competencias, la misión institucional, estudios sectoriales y lineas de acción de las inversiones para no incurrir en un objeto que se salga de las funciones como organismo de tránsito con el fin de determinar el plan estratégico y su alcance dejando como evidencia el plan de acción, presupuesto aprobado y acta de autorización de junta | X9: Probabilidad | Y9: Preventivo | Z9: Manual | AA9: =IF(AND(Y9=$GD$2,Z9=$GE$2),"50%",IF(AND(Y9=$GD$2,Z9=$GE$3),"40%",IF(AND(Y9=$GD$3,Z9=$GE$2),"40%",IF(AND(Y9=$GD$3,Z9=$GE$3),"30%",IF(AND(Y9=$GD$4,Z9=$GE$2),"35%",IF(AND(Y9=$GD$4,Z9=$GE$3),"25%","")))))) -> 40% | AB9: Combinación análisis documental y sistemas de información de apoyo | AC9: Anual | AD9: Con registro manual | AE9: Interna | AF9: =IFERROR(IF(X9="Probabilidad",(Q9-(+Q9*AA9)),IF(X9="Impacto",Q9,"")),"") -> 0.12 | AG9: =LOOKUP(2,1/(AF9:AF14<>""),AF9:AF14) -> 0.0432 | AH9: =AG9*1 -> 0.0432 | AI9: =IF(AND(AH9<=20%),"Muy Baja",IF(AND(AH9>=21%,AH9<=40%),"Baja",IF(AND(AH9>=41%,AH9<=60%),"Media",IF(AND(AH9>=61%,AH9<=80%),"Alta",IF(AND(AH9>=81%,AH9>=100%),"Muy Alta",FALSE))))) -> Muy Baja | AJ9: =IFERROR(IF(X9="Impacto",(T9-(+T9*AA9)),IF(X9="Probabilidad",T9,"")),"") -> 20% | AK9: =LOOKUP(2,1/(AJ9:AJ14<>""),AJ9:AJ14) -> 20% | AL9: =AK9*1 -> 0.2 | AM9: =CHOOSE((AL9>=0%)+(AL9>=21%)+(AL9>=41%)+(AL9>=61%)+(AL9>=81%),"Leve","Menor","Moderado","Mayor","Catastrófico") -> Leve | AN9: =INDEX('MATRIZ DE CALOR '!$D$6:$H$10,MATCH(AI9,'MATRIZ DE CALOR '!$C$6:$C$10,),MATCH(AM9,'MATRIZ DE CALOR '!$D$5:$H$5,)) -> Bajo | AO9: Reducir (Mitigar) | AV9: Polìticas institucionales llevadas a cabo dentro del los requisitos | AW9: Según el seguimiento | AX9: ACTUALMENTE SE ESTAN REVISANDO MISION, VISION, VALORES, POLITICAS PARA ACTUALIZARLO. | GA9: Seguridad digital | GB9: Pérdida Reputacional
V10: 2 | W10: La subdirección adminsitrativa y financiera y el profesional de contratación verifican que las políticas a implementar estén alineadas con las inversiones aprobadas en el presupuesto y la normatividad vigente | X10: Probabilidad | Y10: Preventivo | Z10: Manual | AA10: =IF(AND(Y10=$GD$2,Z10=$GE$2),"50%",IF(AND(Y10=$GD$2,Z10=$GE$3),"40%",IF(AND(Y10=$GD$3,Z10=$GE$2),"40%",IF(AND(Y10=$GD$3,Z10=$GE$3),"30%",IF(AND(Y10=$GD$4,Z10=$GE$2),"35%",IF(AND(Y10=$GD$4,Z10=$GE$3),"25%","")))))) -> 40% | AF10: =IFERROR(IF(AND(X9="Probabilidad",X10="Probabilidad"),(AF9-(+AF9*AA10)),IF(X10="Probabilidad",(Q9-(+Q9*AA10)),IF(X10="Impacto",AF9,""))),"") -> 0.072 | AJ10: =IFERROR(IF(AND(X9="Impacto",AA10="Impacto"),(AJ9-(+AJ9*AA10)),IF(X10="Impacto",(T9-(+T9*AA10)),IF(X10="Probabilidad",AJ9,""))),"") -> 20% | GA10: Daños a activos fijos | GB10: El riesgo afecta la imagen de alguna área de la organización
V11: 3 | W11: La junta directiva aprueba las políticas institucionales con las cuales se emitirán las líneas estratégicas y operativas dejando con evidencia actas de juntas directiva | X11: Probabilidad | Y11: Preventivo | Z11: Manual | AA11: =IF(AND(Y11=$GD$2,Z11=$GE$2),"50%",IF(AND(Y11=$GD$2,Z11=$GE$3),"40%",IF(AND(Y11=$GD$3,Z11=$GE$2),"40%",IF(AND(Y11=$GD$3,Z11=$GE$3),"30%",IF(AND(Y11=$GD$4,Z11=$GE$2),"35%",IF(AND(Y11=$GD$4,Z11=$GE$3),"25%","")))))) -> 40% | AF11: =IFERROR(IF(AND(X10="Probabilidad",X11="Probabilidad"),(AF10-(+AF10*AA11)),IF(X11="Probabilidad",(Q10-(+Q10*AA11)),IF(X11="Impacto",AF10,""))),"") -> 0.0432 | AJ11: =IFERROR(IF(AND(X10="Impacto",AA11="Impacto"),(AJ10-(+AJ10*AA11)),IF(X11="Impacto",(T10-(+T10*AA11)),IF(X11="Probabilidad",AJ10,""))),"") -> 20% | GA11: Soborno | GB11: El riesgo afecta la imagen de la entidad internamente, de conocimiento general, nivel interno, de junta dircetiva y accionistas y/o de provedores
GA12: Integridad Publica | GB12: El riesgo afecta la imagen de la entidad con algunos usuarios de relevancia frente al logro de los objetivos
GB13: El riesgo afecta la imagen de de la entidad con efecto publicitario sostenido a nivel de sector administrativo, nivel departamental o municipal
AA14: =IF(AND(Y14=$GD$2,Z14=$GE$2),"50%",IF(AND(Y14=$GD$2,Z14=$GE$3),"40%",IF(AND(Y14=$GD$3,Z14=$GE$2),"40%",IF(AND(Y14=$GD$3,Z14=$GE$3),"30%",IF(AND(Y14=$GD$4,Z14=$GE$2),"35%",IF(AND(Y14=$GD$4,Z14=$GE$3),"25%","")))))) | AF14: =IFERROR(IF(AND(X13="Probabilidad",X14="Probabilidad"),(AF13-(+AF13*AA14)),IF(X14="Probabilidad",(Q13-(+Q13*AA14)),IF(X14="Impacto",AF13,""))),"") | AJ14: =IFERROR(IF(AND(X13="Impacto",AA14="Impacto"),(AJ13-(+AJ13*AA14)),IF(X14="Impacto",(T13-(+T13*AA14)),IF(X14="Probabilidad",AJ13,""))),"") | GB14: El riesgo afecta la imagen de la entidad a nivel nacional, con efecto publicitarios sostenible a nivel país
A15: 2 | B15: Gestión Gerencial | C15: Ejecución_administración_de_procesos | D15: Falta de aplicación de los procedimientos | E15: =IFERROR(VLOOKUP(C15,Tabla4[#All],2,0),"") -> Eventos relacionados con la ejecución de los procesos y procedimientos determinados para la operación de la entidad, uso de sistemas de información, por errores en las actividades que deben realizar los servidores de la organización. Estructura organizacional que afecta la capacidad organizacional | F15: Gestión | G15: Ejecución y Administración de Procesos | H15: Reputacional y económico | I15: sanciones disciplinarias e investigaciones por parte de los organismos de control | J15: incumplimiento del plan estratégico institucional (Plataforma estratégica: misión, visión, principios, valores, objetivos estratégicos, objetivos institucionales y metas ) y el presupuesto para su consecución | K15: Posibilidad de afectación económica y reputacional por sanciones disciplinarias e investigaciones por parte de los organismos de control debido al incumplimiento del plan estratégico institucional (Plataforma estratégica: misión, visión, principios, valores, objetivos estratégicos, objetivos institucionales ) y metas institucionales debido a la interrupción en la ejecución y avance de los planes institucionales y estratégicos por no contar con los recursos suficientes para su ejecución y la sobreestimación del presupuesto. | L15: PROCEDIMIENTO PARA LA PLANEACCIÓN ESTRATEGICA | M15: Ejecución y Administración de Procesos | N15: n/a | O15: 4 | P15: =IF(AND(O15<=2),"Muy Baja",IF(AND(O15>=3,O15<=23),"Baja",IF(AND(O15>=24,O15<=499),"Media",IF(AND(O15>=500,O15<=4999),"Alta",IF(AND(O15>=5000),"Muy Alta",FALSE))))) -> Baja | Q15: =IF(AND(O15<=2),"20%",IF(AND(O15>=3,O15<=23),"40%",IF(AND(O15>=24,O15<=499),"60%",IF(AND(O15>=500,O15<=4999),"80%",IF(AND(O15>=5000),"100%",FALSE))))) -> 40% | R15: Mayor a 500 SMLMV | S15: =IF(AND(R15=$GB$4),"Leve",IF(AND(R15=$GB$5),"Menor",IF(AND(R15=$GB$6),"Moderado",IF(AND(R15=$GB$7),"mayor",IF(AND(R15=$GB$8),"Catastrófico",IF(AND(R15=$GB$10),"Leve",IF(AND(R15=$GB$11),"Menor",IF(AND(R15=$GB$12),"Moderado",IF(AND(R15=$GB$13),"Mayor",IF(AND(R15=$GB$14),"Catastrófico",FALSE)))))))))) -> Catastrófico | T15: =IF(AND(S15="Leve"),"20%",IF(AND(S15="Menor"),"40%",IF(AND(S15="Moderado"),"60%",IF(AND(S15="Mayor"),"80%",IF(AND(S15="Catastrófico"),"100%",""))))) -> 100% | U15: =INDEX('MATRIZ DE CALOR '!$D$6:$H$10,MATCH(P15,'MATRIZ DE CALOR '!$C$6:$C$10,),MATCH(S15,'MATRIZ DE CALOR '!$D$5:$H$5,)) -> Extremo | V15: 1 | W15: El profesional especializado de planeación realiza seguimiento trimestral al cumplimiento de los planes de acción de cada área, incluyendo cumplimiento de metas y la ejecución de los recursos presupuestados, controla el nivel de cumplimiento de las metas establecidas en los planes de acción dejando como evidencia informe de cumplimiento de los planes de acción presentado a la Alta Dirección | X15: Impacto | Y15: Correctivo | Z15: Manual | AA15: =IF(AND(Y15=$GD$2,Z15=$GE$2),"50%",IF(AND(Y15=$GD$2,Z15=$GE$3),"40%",IF(AND(Y15=$GD$3,Z15=$GE$2),"40%",IF(AND(Y15=$GD$3,Z15=$GE$3),"30%",IF(AND(Y15=$GD$4,Z15=$GE$2),"35%",IF(AND(Y15=$GD$4,Z15=$GE$3),"25%","")))))) -> 25% | AB15: Combinación análisis documental y sistemas de información de apoyo | AC15: Trimestral | AD15: Combinado (manual y electrónico) | AE15: Interna | AF15: =IFERROR(IF(X15="Probabilidad",(Q15-(+Q15*AA15)),IF(X15="Impacto",Q15,"")),"") -> 40% | AG15: =LOOKUP(2,1/(AF15:AF20<>""),AF15:AF20) -> 0.24 | AH15: =AG15*1 -> 0.24 | AI15: =IF(AND(AH15<=20%),"Muy Baja",IF(AND(AH15>=21%,AH15<=40%),"Baja",IF(AND(AH15>=41%,AH15<=60%),"Media",IF(AND(AH15>=61%,AH15<=80%),"Alta",IF(AND(AH15>=81%,AH15>=100%),"Muy Alta",FALSE))))) -> Baja | AJ15: =IFERROR(IF(X15="Impacto",(T15-(+T15*AA15)),IF(X15="Probabilidad",T15,"")),"") -> 0.75 | AK15: =LOOKUP(2,1/(AJ15:AJ20<>""),AJ15:AJ20) -> 0.75 | AL15: =AK15*1 -> 0.75 | AM15: =CHOOSE((AL15>=0%)+(AL15>=21%)+(AL15>=41%)+(AL15>=61%)+(AL15>=81%),"Leve","Menor","Moderado","Mayor","Catastrófico") -> Mayor | AN15: =INDEX('MATRIZ DE CALOR '!$D$6:$H$10,MATCH(AI15,'MATRIZ DE CALOR '!$C$6:$C$10,),MATCH(AM15,'MATRIZ DE CALOR '!$D$5:$H$5,)) -> Alto | AO15: Reducir (Mitigar) | AV15: Porcentaje de cumplimiento de metas institucionales. Numero de actividades ejecutadas del plan de accion/ numero de actividades programadas | AW15: Según el seguimiento | AX15: SE UNIFICARON LOS DOS RIESGOS (2 y 3) EN UNO SOLO POR DESCRIBIR LAS MISMAS ACTIVIDADES DEL PLAN INSTITUCIONAL. Se reformula un solo indicador. Riesgo 3 eliminado.
V16: 2 | W16: El director del ITA realiza el analisis de los resultados a los indicadores institucionales de acuerdo al informe previamente presentado por la OAP y toma acciones necesarias teniendo en cuenta el cumplimiento de los mismos. | X16: Probabilidad | Y16: Preventivo | Z16: Manual | AA16: =IF(AND(Y16=$GD$2,Z16=$GE$2),"50%",IF(AND(Y16=$GD$2,Z16=$GE$3),"40%",IF(AND(Y16=$GD$3,Z16=$GE$2),"40%",IF(AND(Y16=$GD$3,Z16=$GE$3),"30%",IF(AND(Y16=$GD$4,Z16=$GE$2),"35%",IF(AND(Y16=$GD$4,Z16=$GE$3),"25%","")))))) -> 40% | AF16: =IFERROR(IF(AND(X15="Probabilidad",X16="Probabilidad"),(AF15-(+AF15*AA16)),IF(X16="Probabilidad",(Q15-(+Q15*AA16)),IF(X16="Impacto",AF15,""))),"") -> 0.24 | AJ16: =IFERROR(IF(AND(X15="Impacto",AA16="Impacto"),(AJ15-(+AJ15*AA16)),IF(X16="Impacto",(T15-(+T15*AA16)),IF(X16="Probabilidad",AJ15,""))),"") -> 0.75
V17: 3 | W17: El Director del ITA somete a la aprobación de la Junta Directiva el presupuesto con base en los recaudos proyectados, los rubros afectados y la ejecución presupuestal | AF17: =IFERROR(IF(AND(X16="Probabilidad",X17="Probabilidad"),(AF16-(+AF16*AA17)),IF(X17="Probabilidad",(Q16-(+Q16*AA17)),IF(X17="Impacto",AF16,""))),"") | AJ17: =IFERROR(IF(AND(X16="Impacto",AA17="Impacto"),(AJ16-(+AJ16*AA17)),IF(X17="Impacto",(T16-(+T16*AA17)),IF(X17="Probabilidad",AJ16,""))),"")
AF18: =IFERROR(IF(AND(X17="Probabilidad",X18="Probabilidad"),(AF17-(+AF17*AA18)),IF(X18="Probabilidad",(Q17-(+Q17*AA18)),IF(X18="Impacto",AF17,""))),"") | AJ18: =IFERROR(IF(AND(X17="Impacto",AA18="Impacto"),(AJ17-(+AJ17*AA18)),IF(X18="Impacto",(T17-(+T17*AA18)),IF(X18="Probabilidad",AJ17,""))),"")
AA19: =IF(AND(Y19=$GD$2,Z19=$GE$2),"50%",IF(AND(Y19=$GD$2,Z19=$GE$3),"40%",IF(AND(Y19=$GD$3,Z19=$GE$2),"40%",IF(AND(Y19=$GD$3,Z19=$GE$3),"30%",IF(AND(Y19=$GD$4,Z19=$GE$2),"35%",IF(AND(Y19=$GD$4,Z19=$GE$3),"25%","")))))) | AF19: =IFERROR(IF(AND(X18="Probabilidad",X19="Probabilidad"),(AF18-(+AF18*AA19)),IF(X19="Probabilidad",(Q18-(+Q18*AA19)),IF(X19="Impacto",AF18,""))),"") | AJ19: =IFERROR(IF(AND(X18="Impacto",AA19="Impacto"),(AJ18-(+AJ18*AA19)),IF(X19="Impacto",(T18-(+T18*AA19)),IF(X19="Probabilidad",AJ18,""))),"")
AA20: =IF(AND(Y20=$GD$2,Z20=$GE$2),"50%",IF(AND(Y20=$GD$2,Z20=$GE$3),"40%",IF(AND(Y20=$GD$3,Z20=$GE$2),"40%",IF(AND(Y20=$GD$3,Z20=$GE$3),"30%",IF(AND(Y20=$GD$4,Z20=$GE$2),"35%",IF(AND(Y20=$GD$4,Z20=$GE$3),"25%","")))))) | AF20: =IFERROR(IF(AND(X19="Probabilidad",X20="Probabilidad"),(AF19-(+AF19*AA20)),IF(X20="Probabilidad",(Q19-(+Q19*AA20)),IF(X20="Impacto",AF19,""))),"") | AJ20: =IFERROR(IF(AND(X19="Impacto",AA20="Impacto"),(AJ19-(+AJ19*AA20)),IF(X20="Impacto",(T19-(+T19*AA20)),IF(X20="Probabilidad",AJ19,""))),"")
A21: 3 | B21: Gestión Gerencial | C21: Ejecución_administración_de_procesos | D21: Falta de aplicación de los procedimientos | E21: =IFERROR(VLOOKUP(C21,Tabla4[#All],2,0),"") -> Eventos relacionados con la ejecución de los procesos y procedimientos determinados para la operación de la entidad, uso de sistemas de información, por errores en las actividades que deben realizar los servidores de la organización. Estructura organizacional que afecta la capacidad organizacional | F21: Gestión | G21: Ejecución y Administración de Procesos | H21: Reputacional | I21: investigación disciplinaria de entes de control y aumento de quejas y reclamos de los grupos de valor | J21: realización de la rendición de cuentas fuera los lineamientos del Manual único de Rendición de cuentas y acciones relacionadas en el componente 3 del PAAC. | K21: Posibilidad de afectación reputacional por investigación disciplinaria de entes de control y aumento de quejas y reclamos de los grupos de valor debido a la realización de la rendición de cuentas fuera los lineamientos del Manual único de Rendición de cuentas y acciones relacionadas en el componente 5 del Programa de transparencia y etica Publica PTEP. | L21: PROCEDIMIENTO DOCUMENTACIÓN Y REVISIÓN DE PLANES DE ACCIÓN Manual único de Rendición de cuenta | M21: Ejecución y Administración de Procesos | N21: n/a | O21: 1 | P21: =IF(AND(O21<=2),"Muy Baja",IF(AND(O21>=3,O21<=23),"Baja",IF(AND(O21>=24,O21<=499),"Media",IF(AND(O21>=500,O21<=4999),"Alta",IF(AND(O21>=5000),"Muy Alta",FALSE))))) -> Muy Baja | Q21: =IF(AND(O21<=2),"20%",IF(AND(O21>=3,O21<=23),"40%",IF(AND(O21>=24,O21<=499),"60%",IF(AND(O21>=500,O21<=4999),"80%",IF(AND(O21>=5000),"100%",FALSE))))) -> 20% | R21: El riesgo afecta la imagen de la entidad con algunos usuarios de relevancia frente al logro de los objetivos | S21: =IF(AND(R21=$GB$4),"Leve",IF(AND(R21=$GB$5),"Menor",IF(AND(R21=$GB$6),"Moderado",IF(AND(R21=$GB$7),"mayor",IF(AND(R21=$GB$8),"Catastrófico",IF(AND(R21=$GB$10),"Leve",IF(AND(R21=$GB$11),"Menor",IF(AND(R21=$GB$12),"Moderado",IF(AND(R21=$GB$13),"Mayor",IF(AND(R21=$GB$14),"Catastrófico",FALSE)))))))))) -> Moderado | T21: =IF(AND(S21="Leve"),"20%",IF(AND(S21="Menor"),"40%",IF(AND(S21="Moderado"),"60%",IF(AND(S21="Mayor"),"80%",IF(AND(S21="Catastrófico"),"100%",""))))) -> 60% | U21: =INDEX('MATRIZ DE CALOR '!$D$6:$H$10,MATCH(P21,'MATRIZ DE CALOR '!$C$6:$C$10,),MATCH(S21,'MATRIZ DE CALOR '!$D$5:$H$5,)) -> Moderado | V21: 1 | W21: El profesional especializado de planeación solicita información a todos los procesos dejando como evidencia los documentos enviados y los medios por los cuales se realizó. | X21: Probabilidad | Y21: Preventivo | Z21: Manual | AA21: =IF(AND(Y21=$GD$2,Z21=$GE$2),"50%",IF(AND(Y21=$GD$2,Z21=$GE$3),"40%",IF(AND(Y21=$GD$3,Z21=$GE$2),"40%",IF(AND(Y21=$GD$3,Z21=$GE$3),"30%",IF(AND(Y21=$GD$4,Z21=$GE$2),"35%",IF(AND(Y21=$GD$4,Z21=$GE$3),"25%","")))))) -> 40% | AB21: Combinación análisis documental y sistemas de información de apoyo | AC21: Anual | AD21: Combinado (manual y electrónico) | AE21: Mixta | AF21: =IFERROR(IF(X21="Probabilidad",(Q21-(+Q21*AA21)),IF(X21="Impacto",Q21,"")),"") -> 0.12 | AG21: =LOOKUP(2,1/(AF21:AF26<>""),AF21:AF26) -> 0.0432 | AH21: =AG21*1 -> 0.0432 | AI21: =IF(AND(AH21<=20%),"Muy Baja",IF(AND(AH21>=21%,AH21<=40%),"Baja",IF(AND(AH21>=41%,AH21<=60%),"Media",IF(AND(AH21>=61%,AH21<=80%),"Alta",IF(AND(AH21>=81%,AH21>=100%),"Muy Alta",FALSE))))) -> Muy Baja | AJ21: =IFERROR(IF(X21="Impacto",(T21-(+T21*AA21)),IF(X21="Probabilidad",T21,"")),"") -> 60% | AK21: =LOOKUP(2,1/(AJ21:AJ26<>""),AJ21:AJ26) -> 60% | AL21: =AK21*1 -> 0.6 | AM21: =CHOOSE((AL21>=0%)+(AL21>=21%)+(AL21>=41%)+(AL21>=61%)+(AL21>=81%),"Leve","Menor","Moderado","Mayor","Catastrófico") -> Moderado | AN21: =INDEX('MATRIZ DE CALOR '!$D$6:$H$10,MATCH(AI21,'MATRIZ DE CALOR '!$C$6:$C$10,),MATCH(AM21,'MATRIZ DE CALOR '!$D$5:$H$5,)) -> Moderado | AO21: Reducir (Mitigar) | AV21: Rendición de cuentas ejecutadas / Rendiciones programadas | AW21: Según el seguimiento | AX21: Rendicion de cuentas se realizo con la gobernacion de acuerdo a lo programado ano 2023.
V22: 2 | W22: El profesional especializado de planeación en conjunto con los líderes de los procesos formulan las acciones relacionadas con el componente 5 del Programa de Transparencia y Ética Publica y solicita a las dependencias la información a socializar a la ciudadanía. | X22: Probabilidad | Y22: Preventivo | Z22: Manual | AA22: =IF(AND(Y22=$GD$2,Z22=$GE$2),"50%",IF(AND(Y22=$GD$2,Z22=$GE$3),"40%",IF(AND(Y22=$GD$3,Z22=$GE$2),"40%",IF(AND(Y22=$GD$3,Z22=$GE$3),"30%",IF(AND(Y22=$GD$4,Z22=$GE$2),"35%",IF(AND(Y22=$GD$4,Z22=$GE$3),"25%","")))))) -> 40% | AF22: =IFERROR(IF(AND(X21="Probabilidad",X22="Probabilidad"),(AF21-(+AF21*AA22)),IF(X22="Probabilidad",(Q21-(+Q21*AA22)),IF(X22="Impacto",AF21,""))),"") -> 0.072 | AJ22: =IFERROR(IF(AND(X21="Impacto",AA22="Impacto"),(AJ21-(+AJ21*AA22)),IF(X22="Impacto",(T21-(+T21*AA22)),IF(X22="Probabilidad",AJ21,""))),"") -> 60%
V23: 3 | W23: Publicar los informes de resultado y los documentos anexos al cumplimiento de rendición de cuentas de manera continua en la pagína web de la entidad, dirigida a toda la ciudadania. | X23: Probabilidad | Y23: Preventivo | Z23: Manual | AA23: =IF(AND(Y23=$GD$2,Z23=$GE$2),"50%",IF(AND(Y23=$GD$2,Z23=$GE$3),"40%",IF(AND(Y23=$GD$3,Z23=$GE$2),"40%",IF(AND(Y23=$GD$3,Z23=$GE$3),"30%",IF(AND(Y23=$GD$4,Z23=$GE$2),"35%",IF(AND(Y23=$GD$4,Z23=$GE$3),"25%","")))))) -> 40% | AF23: =IFERROR(IF(AND(X22="Probabilidad",X23="Probabilidad"),(AF22-(+AF22*AA23)),IF(X23="Probabilidad",(Q22-(+Q22*AA23)),IF(X23="Impacto",AF22,""))),"") -> 0.0432 | AJ23: =IFERROR(IF(AND(X22="Impacto",AA23="Impacto"),(AJ22-(+AJ22*AA23)),IF(X23="Impacto",(T22-(+T22*AA23)),IF(X23="Probabilidad",AJ22,""))),"") -> 60%
AA24: =IF(AND(Y24=$GD$2,Z24=$GE$2),"50%",IF(AND(Y24=$GD$2,Z24=$GE$3),"40%",IF(AND(Y24=$GD$3,Z24=$GE$2),"40%",IF(AND(Y24=$GD$3,Z24=$GE$3),"30%",IF(AND(Y24=$GD$4,Z24=$GE$2),"35%",IF(AND(Y24=$GD$4,Z24=$GE$3),"25%","")))))) | AF24: =IFERROR(IF(AND(X23="Probabilidad",X24="Probabilidad"),(AF23-(+AF23*AA24)),IF(X24="Probabilidad",(Q23-(+Q23*AA24)),IF(X24="Impacto",AF23,""))),"") | AJ24: =IFERROR(IF(AND(X23="Impacto",AA24="Impacto"),(AJ23-(+AJ23*AA24)),IF(X24="Impacto",(T23-(+T23*AA24)),IF(X24="Probabilidad",AJ23,""))),"")
AA25: =IF(AND(Y25=$GD$2,Z25=$GE$2),"50%",IF(AND(Y25=$GD$2,Z25=$GE$3),"40%",IF(AND(Y25=$GD$3,Z25=$GE$2),"40%",IF(AND(Y25=$GD$3,Z25=$GE$3),"30%",IF(AND(Y25=$GD$4,Z25=$GE$2),"35%",IF(AND(Y25=$GD$4,Z25=$GE$3),"25%","")))))) | AF25: =IFERROR(IF(AND(X24="Probabilidad",X25="Probabilidad"),(AF24-(+AF24*AA25)),IF(X25="Probabilidad",(Q24-(+Q24*AA25)),IF(X25="Impacto",AF24,""))),"") | AJ25: =IFERROR(IF(AND(X24="Impacto",AA25="Impacto"),(AJ24-(+AJ24*AA25)),IF(X25="Impacto",(T24-(+T24*AA25)),IF(X25="Probabilidad",AJ24,""))),"")
AA26: =IF(AND(Y26=$GD$2,Z26=$GE$2),"50%",IF(AND(Y26=$GD$2,Z26=$GE$3),"40%",IF(AND(Y26=$GD$3,Z26=$GE$2),"40%",IF(AND(Y26=$GD$3,Z26=$GE$3),"30%",IF(AND(Y26=$GD$4,Z26=$GE$2),"35%",IF(AND(Y26=$GD$4,Z26=$GE$3),"25%","")))))) | AF26: =IFERROR(IF(AND(X25="Probabilidad",X26="Probabilidad"),(AF25-(+AF25*AA26)),IF(X26="Probabilidad",(Q25-(+Q25*AA26)),IF(X26="Impacto",AF25,""))),"") | AJ26: =IFERROR(IF(AND(X25="Impacto",AA26="Impacto"),(AJ25-(+AJ25*AA26)),IF(X26="Impacto",(T25-(+T25*AA26)),IF(X26="Probabilidad",AJ25,""))),"")
A27: 4 | B27: GERENCIAL | C27: TalentoHumano | D27: TalentoHumano | E27: =IFERROR(VLOOKUP(C27,Tabla4[#All],2,0),"") -> Eventos relacionados con las conductas o comportamientos de los empleados que afectan la Integridad Pública | F27: Integridad Pùblica - Corrupción | G27: Ejecución y Administración de Procesos | H27: Reputacional y económico | I27: pérdida de confianza de la comunidad | J27: debido a la omisión de actividades de revisión, verificación, comparación, en los procedimientos establecidos para la formulación, control y seguimiento de los planes, programas y proyectos institucionales con el fin de obtener un beneficio propio o particular | K27: Posibilidad de pérdida de confianza de la comunidad hacia las actuaciones públicas debido a la omisión de actividades de revisión, verificación, comparación, en los procedimientos establecidos para la formulación, control y seguimiento de los planes, programas y proyectos institucionales con el fin de obtener un beneficio propio o particular. | L27: PROCEDIMIENTO PARA LA PLANEACCIÓN ESTRATEGICA | M27: Ejecución y Administración de Procesos | N27: Planes, programas y proyectos institucionales | O27: 1 | P27: =IF(O27="","",IF(O27<=2,"Muy Baja",IF(O27<=24,"Baja",IF(O27<=500,"Media",IF(O27<=5000,"Alta","Muy Alta"))))) -> Muy Baja | Q27: =IF(O27="","",IF(O27<=2,20%,IF(O27<=24,40%,IF(O27<=500,60%,IF(O27<=5000,80%,100%))))) -> 0.2 | R27: Afectación menor a 10 SMLMV | S27: Leve | T27: 0.2 | U27: =IF(OR(Q27="",T27=""),"",IF(Q27=100%,IF(T27=100%,"Extremo","Alto"),IF(Q27=80%,IF(T27=100%,"Extremo",IF(T27>=60%,"Alto","Moderado")),IF(Q27=60%,IF(T27=100%,"Extremo",IF(T27>=80%,"Alto","Moderado")),IF(Q27=40%,IF(T27=100%,"Extremo",IF(T27>=80%,"Alto",IF(T27>=40%,"Moderado","Bajo"))),IF(T27=100%,"Extremo",IF(T27=80%,"Alto",IF(T27=60%,"Moderado","Bajo")))))))) -> Bajo | V27: 1 | W27: La Alta Dirección a intervalos planificados comunica, socializa, aprueba y hace públicas sus decisiones en los Comités Institucionales y las reuniones de Junta Directiva, en caso de inquietudes sobre sus decisiones, sustenta las razones de las mismas. Evidencia de su control mediante actas de comité y actas de junta directiva. | X27: Probabilidad | Y27: Preventivo | Z27: Manual | AA27: =IF(OR(Y27="",Z27=""),"",IF(AND(Y27="Preventivo",Z27="Automático"),50%,IF(AND(Y27="Preventivo",Z27="Manual"),40%,IF(AND(Y27="Detectivo",Z27="Automático"),40%,IF(AND(Y27="Detectivo",Z27="Manual"),30%,IF(AND(Y27="Correctivo",Z27="Automático"),35%,IF(AND(Y27="Correctivo",Z27="Manual"),25%,""))))))) -> 0.4 | AB27: Procedimientos | AC27: Anual | AD27: Con registro manual | AE27: Interna | AF27: =IF(Q27="","",Q27*(IF(AND(X27="Probabilidad",OR(Y27="Preventivo",Y27="Detectivo"),ISNUMBER(AA27)),1-AA27,1)*IF(AND(X28="Probabilidad",OR(Y28="Preventivo",Y28="Detectivo"),ISNUMBER(AA28)),1-AA28,1)*IF(AND(X32="Probabilidad",OR(Y32="Preventivo",Y32="Detectivo"),ISNUMBER(AA32)),1-AA32,1))) -> 0.0432 | AG27: =IF(AF27="","",IF(AF27<=20%,20%,IF(AF27<=40%,40%,IF(AF27<=60%,60%,IF(AF27<=80%,80%,100%))))) -> 0.2 | AI27: Baja | AJ27: =IF(T27="","",T27*(IF(AND(X27="Impacto",Y27="Correctivo",ISNUMBER(AA27)),1-AA27,1)*IF(AND(X28="Impacto",Y28="Correctivo",ISNUMBER(AA28)),1-AA28,1)*IF(AND(X32="Impacto",Y32="Correctivo",ISNUMBER(AA32)),1-AA32,1))) -> 0.2 | AK27: =IF(AJ27="","",IF(AJ27<=20%,20%,IF(AJ27<=40%,40%,IF(AJ27<=60%,60%,IF(AJ27<=80%,80%,100%))))) -> 0.2 | AM27: Mayor | AN27: =IF(OR(AG27="",AK27=""),"",IF(AG27=100%,IF(AK27=100%,"Extremo","Alto"),IF(AG27=80%,IF(AK27=100%,"Extremo",IF(AK27>=60%,"Alto","Moderado")),IF(AG27=60%,IF(AK27=100%,"Extremo",IF(AK27>=80%,"Alto","Moderado")),IF(AG27=40%,IF(AK27=100%,"Extremo",IF(AK27>=80%,"Alto",IF(AK27>=40%,"Moderado","Bajo"))),IF(AK27=100%,"Extremo",IF(AK27=80%,"Alto",IF(AK27=60%,"Moderado","Bajo")))))))) -> Bajo | AO27: Reducir (Mitigar) | AW27: Según el seguimiento | AX27: En la descripcion del riesgo se quito de la redaccion: " por sanciones disciplinarias, legales, penales, fiscales" | GA27: Seguridad digital | GB27: Pérdida Reputacional
V28: 2 | W28: La Alta Dirección verifica las competencias, la misión institucional, estudios sectoriales y lineas de acción de las inversiones para no incurrir en un objeto que se salga de las funciones como organismo de tránsito con el fin de determinar el plan estratégico y su alcance dejando como evidencia el plan de acción, presupuesto aprobado y acta de autorización de junta | X28: Probabilidad | Y28: Preventivo | Z28: Manual | AA28: =IF(OR(Y28="",Z28=""),"",IF(AND(Y28="Preventivo",Z28="Automático"),50%,IF(AND(Y28="Preventivo",Z28="Manual"),40%,IF(AND(Y28="Detectivo",Z28="Automático"),40%,IF(AND(Y28="Detectivo",Z28="Manual"),30%,IF(AND(Y28="Correctivo",Z28="Automático"),35%,IF(AND(Y28="Correctivo",Z28="Manual"),25%,""))))))) -> 0.4 | AB28: Combinación análisis documental y sistemas de información de apoyo | AC28: Anual | AD28: Con registro manual | AE28: Interna | GA28: Daños a activos fijos | GB28: El riesgo afecta la imagen de alguna área de la organización
GB29: El riesgo afecta la imagen de la entidad internamente, de conocimiento general, nivel interno, de junta dircetiva y accionistas y/o de provedores
GB30: El riesgo afecta la imagen de la entidad con algunos usuarios de relevancia frente al logro de los objetivos
GB31: El riesgo afecta la imagen de de la entidad con efecto publicitario sostenido a nivel de sector administrativo, nivel departamental o municipal
V32: 3 | W32: La subdirección adminsitrativa y financiera y el profesional de contratación verifican que las políticas a implementar estén alineadas con las inversiones aprobadas en el presupuesto y la normatividad vigente | X32: Probabilidad | Y32: Preventivo | Z32: Manual | AA32: =IF(OR(Y32="",Z32=""),"",IF(AND(Y32="Preventivo",Z32="Automático"),50%,IF(AND(Y32="Preventivo",Z32="Manual"),40%,IF(AND(Y32="Detectivo",Z32="Automático"),40%,IF(AND(Y32="Detectivo",Z32="Manual"),30%,IF(AND(Y32="Correctivo",Z32="Automático"),35%,IF(AND(Y32="Correctivo",Z32="Manual"),25%,""))))))) -> 0.4 | AB32: Combinación análisis documental y sistemas de información de apoyo | AC32: Anual | AD32: Combinado (manual y electrónico) | AE32: Interna | GB32: El riesgo afecta la imagen de la entidad a nivel nacional, con efecto publicitarios sostenible a nivel país
A33: 5 | B33: Planeación | C33: Ejecución_administración_de_procesos | D33: Falta de aplicación de los procedimientos | E33: =IFERROR(VLOOKUP(C33,Tabla4[#All],2,0),"") -> Eventos relacionados con la ejecución de los procesos y procedimientos determinados para la operación de la entidad, uso de sistemas de información, por errores en las actividades que deben realizar los servidores de la organización. Estructura organizacional que afecta la capacidad organizacional | F33: Gestión | G33: Ejecución y Administración de Procesos | H33: Reputacional | I33: acciones disciplinarias | J33: incumplimiento de las disposiciones de elaboración y publicación de políticas derivadas del Modelo Integrado de Planeación y Gestión. | K33: Posibilidad de afectación reputacional por el incumplimiento de las disposiciones de elaboración y publicación de políticas derivadas del Modelo Integrado de Planeación y Gestión. | L33: PROCEDIMIENTO REVISIÓN DEL MODELO INTEGRADO DE PLANEACIÓN Y GESTIÓN MIPG Y SISTEMAS DE GESTIÓN COMPLEMENTARIOS | M33: Ejecución y Administración de Procesos | N33: n/a | O33: 1 | P33: =IF(AND(O33<=2),"Muy Baja",IF(AND(O33>=3,O33<=23),"Baja",IF(AND(O33>=24,O33<=499),"Media",IF(AND(O33>=500,O33<=4999),"Alta",IF(AND(O33>=5000),"Muy Alta",FALSE))))) -> Muy Baja | Q33: =IF(AND(O33<=2),"20%",IF(AND(O33>=3,O33<=23),"40%",IF(AND(O33>=24,O33<=499),"60%",IF(AND(O33>=500,O33<=4999),"80%",IF(AND(O33>=5000),"100%",FALSE))))) -> 20% | R33: El riesgo afecta la imagen de la entidad internamente, de conocimiento general, nivel interno, de junta dircetiva y accionistas y/o de provedores | S33: =IF(AND(R33=$GB$4),"Leve",IF(AND(R33=$GB$5),"Menor",IF(AND(R33=$GB$6),"Moderado",IF(AND(R33=$GB$7),"mayor",IF(AND(R33=$GB$8),"Catastrófico",IF(AND(R33=$GB$10),"Leve",IF(AND(R33=$GB$11),"Menor",IF(AND(R33=$GB$12),"Moderado",IF(AND(R33=$GB$13),"Mayor",IF(AND(R33=$GB$14),"Catastrófico",FALSE)))))))))) -> Menor | T33: =IF(AND(S33="Leve"),"20%",IF(AND(S33="Menor"),"40%",IF(AND(S33="Moderado"),"60%",IF(AND(S33="Mayor"),"80%",IF(AND(S33="Catastrófico"),"100%",""))))) -> 40% | U33: =INDEX('[1]MATRIZ RIESGO'!$D$6:$H$10,MATCH(P33,'[1]MATRIZ RIESGO'!$C$6:$C$10,),MATCH(S33,'[1]MATRIZ RIESGO'!$D$5:$H$5,)) -> Bajo | V33: 1 | W33: El jefe de la oficina asesora de planeación realiza verificación de los requerimientos para medición del índice de desempeño institucional contenidos en la herramienta del FURAG dejando como evidencia correos electrónicos enviados de solicitud de información de cada líder de política y certificación de diligenciamiento FURAG | X33: Probabilidad | Y33: Detectivo | Z33: Manual | AA33: =IF(AND(Y33=$GD$2,Z33=$GE$2),"50%",IF(AND(Y33=$GD$2,Z33=$GE$3),"40%",IF(AND(Y33=$GD$3,Z33=$GE$2),"40%",IF(AND(Y33=$GD$3,Z33=$GE$3),"30%",IF(AND(Y33=$GD$4,Z33=$GE$2),"35%",IF(AND(Y33=$GD$4,Z33=$GE$3),"25%","")))))) -> 30% | AB33: Combinación análisis documental y sistemas de información de apoyo | AC33: Anual | AD33: Con registro electrónico | AE33: Mixta | AF33: =IFERROR(IF(X33="Probabilidad",(Q33-(+Q33*AA33)),IF(X33="Impacto",Q33,"")),"") -> 0.14 | AG33: =LOOKUP(2,1/(AF33:AF38<>""),AF33:AF38) -> 0.14 | AH33: =AG33*1 -> 0.14 | AI33: =IF(AND(AH33<=20%),"Muy Baja",IF(AND(AH33>=21%,AH33<=40%),"Baja",IF(AND(AH33>=41%,AH33<=60%),"Media",IF(AND(AH33>=61%,AH33<=80%),"Alta",IF(AND(AH33>=81%,AH33>=100%),"Muy Alta",FALSE))))) -> Muy Baja | AJ33: =IFERROR(IF(X33="Impacto",(T33-(+T33*AA33)),IF(X33="Probabilidad",T33,"")),"") -> 40% | AK33: =LOOKUP(2,1/(AJ33:AJ38<>""),AJ33:AJ38) -> 40% | AL33: =AK33*1 -> 0.4 | AM33: =CHOOSE((AL33>=0%)+(AL33>=21%)+(AL33>=41%)+(AL33>=61%)+(AL33>=81%),"Leve","Menor","Moderado","Mayor","Catastrófico") -> Menor | AN33: =INDEX('MATRIZ DE CALOR '!$D$6:$H$10,MATCH(AI33,'MATRIZ DE CALOR '!$C$6:$C$10,),MATCH(AM33,'MATRIZ DE CALOR '!$D$5:$H$5,)) -> Bajo | AO33: Reducir (Mitigar) | AV33: Nivel de avance del IDI | AW33: Según el seguimiento
AA34: =IF(AND(Y34=$GD$2,Z34=$GE$2),"50%",IF(AND(Y34=$GD$2,Z34=$GE$3),"40%",IF(AND(Y34=$GD$3,Z34=$GE$2),"40%",IF(AND(Y34=$GD$3,Z34=$GE$3),"30%",IF(AND(Y34=$GD$4,Z34=$GE$2),"35%",IF(AND(Y34=$GD$4,Z34=$GE$3),"25%","")))))) | AF34: =IFERROR(IF(AND(X33="Probabilidad",X34="Probabilidad"),(AF33-(+AF33*AA34)),IF(X34="Probabilidad",(Q33-(+Q33*AA34)),IF(X34="Impacto",AF33,""))),"") | AJ34: =IFERROR(IF(AND(X33="Impacto",AA34="Impacto"),(AJ33-(+AJ33*AA34)),IF(X34="Impacto",(T33-(+T33*AA34)),IF(X34="Probabilidad",AJ33,""))),"")
AA35: =IF(AND(Y35=$GD$2,Z35=$GE$2),"50%",IF(AND(Y35=$GD$2,Z35=$GE$3),"40%",IF(AND(Y35=$GD$3,Z35=$GE$2),"40%",IF(AND(Y35=$GD$3,Z35=$GE$3),"30%",IF(AND(Y35=$GD$4,Z35=$GE$2),"35%",IF(AND(Y35=$GD$4,Z35=$GE$3),"25%","")))))) | AF35: =IFERROR(IF(AND(X34="Probabilidad",X35="Probabilidad"),(AF34-(+AF34*AA35)),IF(X35="Probabilidad",(Q34-(+Q34*AA35)),IF(X35="Impacto",AF34,""))),"") | AJ35: =IFERROR(IF(AND(X34="Impacto",AA35="Impacto"),(AJ34-(+AJ34*AA35)),IF(X35="Impacto",(T34-(+T34*AA35)),IF(X35="Probabilidad",AJ34,""))),"")
AA36: =IF(AND(Y36=$GD$2,Z36=$GE$2),"50%",IF(AND(Y36=$GD$2,Z36=$GE$3),"40%",IF(AND(Y36=$GD$3,Z36=$GE$2),"40%",IF(AND(Y36=$GD$3,Z36=$GE$3),"30%",IF(AND(Y36=$GD$4,Z36=$GE$2),"35%",IF(AND(Y36=$GD$4,Z36=$GE$3),"25%","")))))) | AF36: =IFERROR(IF(AND(X35="Probabilidad",X36="Probabilidad"),(AF35-(+AF35*AA36)),IF(X36="Probabilidad",(Q35-(+Q35*AA36)),IF(X36="Impacto",AF35,""))),"") | AJ36: =IFERROR(IF(AND(X35="Impacto",AA36="Impacto"),(AJ35-(+AJ35*AA36)),IF(X36="Impacto",(T35-(+T35*AA36)),IF(X36="Probabilidad",AJ35,""))),"")
AA37: =IF(AND(Y37=$GD$2,Z37=$GE$2),"50%",IF(AND(Y37=$GD$2,Z37=$GE$3),"40%",IF(AND(Y37=$GD$3,Z37=$GE$2),"40%",IF(AND(Y37=$GD$3,Z37=$GE$3),"30%",IF(AND(Y37=$GD$4,Z37=$GE$2),"35%",IF(AND(Y37=$GD$4,Z37=$GE$3),"25%","")))))) | AF37: =IFERROR(IF(AND(X36="Probabilidad",X37="Probabilidad"),(AF36-(+AF36*AA37)),IF(X37="Probabilidad",(Q36-(+Q36*AA37)),IF(X37="Impacto",AF36,""))),"") | AJ37: =IFERROR(IF(AND(X36="Impacto",AA37="Impacto"),(AJ36-(+AJ36*AA37)),IF(X37="Impacto",(T36-(+T36*AA37)),IF(X37="Probabilidad",AJ36,""))),"")
AA38: =IF(AND(Y38=$GD$2,Z38=$GE$2),"50%",IF(AND(Y38=$GD$2,Z38=$GE$3),"40%",IF(AND(Y38=$GD$3,Z38=$GE$2),"40%",IF(AND(Y38=$GD$3,Z38=$GE$3),"30%",IF(AND(Y38=$GD$4,Z38=$GE$2),"35%",IF(AND(Y38=$GD$4,Z38=$GE$3),"25%","")))))) | AF38: =IFERROR(IF(AND(X37="Probabilidad",X38="Probabilidad"),(AF37-(+AF37*AA38)),IF(X38="Probabilidad",(Q37-(+Q37*AA38)),IF(X38="Impacto",AF37,""))),"") | AJ38: =IFERROR(IF(AND(X37="Impacto",AA38="Impacto"),(AJ37-(+AJ37*AA38)),IF(X38="Impacto",(T37-(+T37*AA38)),IF(X38="Probabilidad",AJ37,""))),"")
A39: 6 | B39: Planeación | C39: Ejecución_administración_de_procesos | D39: Falta de aplicación de los procedimientos | E39: =IFERROR(VLOOKUP(C39,Tabla4[#All],2,0),"") -> Eventos relacionados con la ejecución de los procesos y procedimientos determinados para la operación de la entidad, uso de sistemas de información, por errores en las actividades que deben realizar los servidores de la organización. Estructura organizacional que afecta la capacidad organizacional | F39: Gestión | G39: Ejecución y Administración de Procesos | H39: Reputacional | I39: posibles investigación de los entes de control | J39: formulación y ejecución de los planes, programas o proyectos institucionales del ITA, fuera de lo establecido en el plan de desarrollo departamental desatendiendo las necesidades reales de la entidad, la misionalidad y la consecución de los objetivos estratégicos del ITA, por demoras en la entrega de la información por parte de los líderes de procesos y dificultades o fallas en la planeación estratégica que orienten y brinden un marco de referencia claro a seguir, en el desarrollo de las actividades, operaciones y/u objetivos. | K39: Posibilidad de afectación reputacional debido a la formulación y ejecución de los planes, programas o proyectos institucionales del ITA, fuera de lo establecido en el plan de desarrollo departamental desatendiendo las necesidades reales de la entidad, la misionalidad y la consecución de los objetivos estratégicos del ITA, por demoras en la entrega de la información por parte de los líderes de procesos y dificultades o fallas en la planeación estratégica que orienten y brinden un marco de referencia claro a seguir, en el desarrollo de las actividades, operaciones y/u objetivos. | L39: PROCEDIMIENTO DOCUMENTO Y REVISIÓN DE PLANES DE ACCIÓN | M39: Ejecución y Administración de Procesos | N39: n/a | O39: 1 | P39: =IF(AND(O39<=2),"Muy Baja",IF(AND(O39>=3,O39<=23),"Baja",IF(AND(O39>=24,O39<=499),"Media",IF(AND(O39>=500,O39<=4999),"Alta",IF(AND(O39>=5000),"Muy Alta",FALSE))))) -> Muy Baja | Q39: =IF(AND(O39<=2),"20%",IF(AND(O39>=3,O39<=23),"40%",IF(AND(O39>=24,O39<=499),"60%",IF(AND(O39>=500,O39<=4999),"80%",IF(AND(O39>=5000),"100%",FALSE))))) -> 20% | R39: Mayor a 500 SMLMV | S39: =IF(AND(R39=$GB$4),"Leve",IF(AND(R39=$GB$5),"Menor",IF(AND(R39=$GB$6),"Moderado",IF(AND(R39=$GB$7),"mayor",IF(AND(R39=$GB$8),"Catastrófico",IF(AND(R39=$GB$10),"Leve",IF(AND(R39=$GB$11),"Menor",IF(AND(R39=$GB$12),"Moderado",IF(AND(R39=$GB$13),"Mayor",IF(AND(R39=$GB$14),"Catastrófico",FALSE)))))))))) -> Catastrófico | T39: =IF(AND(S39="Leve"),"20%",IF(AND(S39="Menor"),"40%",IF(AND(S39="Moderado"),"60%",IF(AND(S39="Mayor"),"80%",IF(AND(S39="Catastrófico"),"100%",""))))) -> 100% | U39: =INDEX('[1]MATRIZ RIESGO'!$D$6:$H$10,MATCH(P39,'[1]MATRIZ RIESGO'!$C$6:$C$10,),MATCH(S39,'[1]MATRIZ RIESGO'!$D$5:$H$5,)) -> Extremo | V39: 1 | W39: El jefe de planeación solicita por medio escrito o magnético a los líderes de los procesos los planes de acción por procesos de acuerdo al procedimiento "documento y revisión de planes de acción" Y "PROCEDIMIENTO FORMULACIÓN Y SEGUIMIENTO DEL PLAN INTEGRADO DE ACCIÓN ANUAL" dejando como evidencia el Plan de acción INTEGRADO Y OPERATIVO formulado | X39: Impacto | Y39: Correctivo | Z39: Manual | AA39: =IF(AND(Y39=$GD$2,Z39=$GE$2),"50%",IF(AND(Y39=$GD$2,Z39=$GE$3),"40%",IF(AND(Y39=$GD$3,Z39=$GE$2),"40%",IF(AND(Y39=$GD$3,Z39=$GE$3),"30%",IF(AND(Y39=$GD$4,Z39=$GE$2),"35%",IF(AND(Y39=$GD$4,Z39=$GE$3),"25%","")))))) -> 25% | AB39: Combinación análisis documental y sistemas de información de apoyo | AC39: Trimestral | AD39: Combinado (manual y electrónico) | AE39: Interna | AF39: =IFERROR(IF(X39="Probabilidad",(Q39-(+Q39*AA39)),IF(X39="Impacto",Q39,"")),"") -> 20% | AG39: =LOOKUP(2,1/(AF39:AF44<>""),AF39:AF44) -> 0.12 | AH39: =AG39*1 -> 0.12 | AI39: =IF(AND(AH39<=20%),"Muy Baja",IF(AND(AH39>=21%,AH39<=40%),"Baja",IF(AND(AH39>=41%,AH39<=60%),"Media",IF(AND(AH39>=61%,AH39<=80%),"Alta",IF(AND(AH39>=81%,AH39>=100%),"Muy Alta",FALSE))))) -> Muy Baja | AJ39: =IFERROR(IF(X39="Impacto",(T39-(+T39*AA39)),IF(X39="Probabilidad",T39,"")),"") -> 0.75 | AK39: =LOOKUP(2,1/(AJ39:AJ44<>""),AJ39:AJ44) -> 0.75 | AL39: =AK39*1 -> 0.75 | AM39: =CHOOSE((AL39>=0%)+(AL39>=21%)+(AL39>=41%)+(AL39>=61%)+(AL39>=81%),"Leve","Menor","Moderado","Mayor","Catastrófico") -> Mayor | AN39: =INDEX('[1]MATRIZ RIESGO'!$D$6:$H$10,MATCH(AI39,'[1]MATRIZ RIESGO'!$C$6:$C$10,),MATCH(AM39,'[1]MATRIZ RIESGO'!$D$5:$H$5,)) -> Alto | AO39: Reducir (Mitigar) | AV39: Porcentaje de cumplimiento de metas institucionales. Alineación de metas institucionales con las metas departamentales | AW39: Según el seguimiento
V40: 2 | W40: El jefe de planeación realiza visitas de seguimiento a los planes de acción de cada proceso trimestralmente verificando que las actividades se hayan realizado de acuerdo a lo planificado, dejando como evidencia informe de seguimiento al plan operativo y al Plan Integrado de Acción. | X40: Probabilidad | Y40: Preventivo | Z40: Manual | AA40: =IF(AND(Y40=$GD$2,Z40=$GE$2),"50%",IF(AND(Y40=$GD$2,Z40=$GE$3),"40%",IF(AND(Y40=$GD$3,Z40=$GE$2),"40%",IF(AND(Y40=$GD$3,Z40=$GE$3),"30%",IF(AND(Y40=$GD$4,Z40=$GE$2),"35%",IF(AND(Y40=$GD$4,Z40=$GE$3),"25%","")))))) -> 40% | AF40: =IFERROR(IF(AND(X39="Probabilidad",X40="Probabilidad"),(AF39-(+AF39*AA40)),IF(X40="Probabilidad",(Q39-(+Q39*AA40)),IF(X40="Impacto",AF39,""))),"") -> 0.12 | AJ40: =IFERROR(IF(AND(X39="Impacto",AA40="Impacto"),(AJ39-(+AJ39*AA40)),IF(X40="Impacto",(T39-(+T39*AA40)),IF(X40="Probabilidad",AJ39,""))),"") -> 0.75
...

Sheet Atributos 
A2: Documentación | B2: Frecuencia | C2: Evidencia | D2: Ejecuión | G2: Factor De Riesgo | H2: Descripción Del Tipo De Factor De Riesgo | J2: Tipología
A3: Procedimientos | B3: Siempre que se ejecuta la actividad | C3: Con registro manual | D3: Interna | G3: Ejecución_administración_de_procesos | H3: Eventos relacionados con la ejecución de los procesos y procedimientos determinados para la operación de la entidad, uso de sistemas de información, por errores en las actividades que deben realizar los servidores de la organización. Estructura organizacional que afecta la capacidad organizacional | J3: Gestión
A4: Sistemas de información | B4: Diario | C4: Con registro electrónico | D4: Externa | G4: Transacción_u_Operación_aplica_para_LAFTFP | H4: Eventos relacionados con transacciones y Operaciones realizadas por un cliente o usuario, que accede o entrega un bien o servicio a la entidad, a través de los canales dispuestos y en una jurisdicción específica. | J4: Fiscal
A5: Otros Esquemas | B5: Mensual | C5: Combinado (manual y electrónico) | D5: Mixta | G5: TalentoHumano | H5: Eventos relacionados con las conductas o comportamientos de los empleados que afectan la Integridad Pública | J5: Seg. de la Información
A6: Combinación análisis documental y sistemas de información de apoyo | B6: Bimestral | G6: Tecnología | H6: Eventos relacionados con la infraestructura tecnológica de la entidad. | J6: Integridad Pùblica - Corrupción
B7: Trimestral | G7: Infraestructura | H7: Eventos relacionados con la infraestructura física de la entidad. | J7: Integridad Pùblica - LA/FT/FP
B8: Semestral | G8: EventoExterno | H8: Eventos por situaciones externas que afectan la entidad.
B9: Anual
B10: cuatrimestral
A17: Ejecución_administración_de_procesos | B17: Transacción_u_Operación_aplica_para_LAFTFP | C17: TalentoHumano | D17: Tecnología | E17: Infraestructura | F17: EventoExterno
A18: Falta de aplicación de los procedimientos | B18: Contrapartes de la entidad (naturales o jurídicas) | C18: Fraude interno | D18: Daño de equipos | E18: Derrumbes | F18: Fraude Externo
A19: Falta segregación de funciones | B19: Productos (bienes o servicios) que oferta/requiere | C19: Soborno | D19: Caída de sistemas de información y aplicaciones | E19: Incendios | F19: Suplantación de identidad
A20: Errores de grabación, autorización | B20: Canales utilizados para la operación | C20: Gestión inadecuada de conflicto de Intereses | D20: Caída de redes | E20: Inundaciones | F20: Asalto a la oficina
A21: Errores en cálculos para pagos internos y externos | B21: Jurisdicciones (nacional o territorial) | C21: Corrupción | D21: Errores en hardware o software | E21: Daños a activos fijos | F21: Atentados, vandalismo, orden público
A22: Falta de supervisión o interventoría | D22: Errores en programas
A23: Alta rotación o insuficiencia de personal | D23: falta de controles de seguridad
A24: Acciones contrarias a las leyes o acuerdos de empleo, salud o seguridad en el trabajo
A25: Acciones contrarias a las leyes o acuerdos contractuales
A26: Falta de capacitación y otros temas relacionados con el personal
G27: RIESGOS PARA LA INTERIGAD PUBLICA
G30: Factor De Riesgo | H30: Descripción Del Tipo De Factor De Riesgo | I30: Fuente generadora del evento | J30: Tipología
G31: soborno | H31: Ofrecer, prometer, dar, aceptar o solicitar una ventaja indebida de cualquier valor (que puede ser financiero o no financiero), directa o indirectamente, e independientemente de la ubicación, en violación de la ley aplicable, como incentivo o recompensa para que una persona actúe o se abstenga de actuar | I31: Contexto de la organización | J31: Integridad Pùblica - Corrupción
G32: Fraude | H32: Errores, omisiones, informes inexactos o descripciones incorrectas realizados con culpa o dolo para beneficio personal o de terceros. | I32: Liderazgo del sistema | J32: Integridad Pùblica - LA/FT/FP
G33: Inadecuada gestion de conflicto de intereses | H33: Decidir en un asunto sobre el cual el servidor tiene un interés particular y directo en su regulación, gestión, control o decisión, o lo tuviere su cónyuge, compañero o compañera permanente, o algunos de sus parientes dentro del cuarto grado de consanguinidad, segundo de afinidad o primero civil, o su socio o socios de hecho o de derecho | I33: Planificacion
G34: Corrupcion | H34: Desviar la gestión administrativa o los recursos públicos y privados para obtener un beneficio propio o para un tercero | I34: Operación
G35: Lavado de activos LA, financiacion del terrorismo FT, y financiacion de la proliferacion de armas de destruccion masiva FP | H35: A través de estas prácticas y conductas se compromete la capacidad del Estado para cumplir con sus fines, en la medida que las entidades pueden ser usadas para dar apariencia de legalidad a recursos obtenidos de forma ilícita o ilegal, e incluso para trasladar recursos a personas o grupos que pueden terminar atacando instituciones estatales. | I35: Apoyo

Sheet MATRIZ DE CALOR 
D4: IMPACTO
D5: Leve | E5: Menor | F5: Moderado | G5: Mayor | H5: Catastrófico
B6: PROBABILIDAD | C6: Muy Alta | D6: Alto | E6: Alto | F6: Alto | G6: Alto | H6: Extremo
C7: Alta | D7: Moderado | E7: Moderado | F7: Alto | G7: Alto | H7: Extremo
C8: Media | D8: Moderado | E8: Moderado | F8: Moderado | G8: Alto | H8: Extremo
C9: Baja | D9: Bajo | E9: Moderado | F9: Moderado | G9: Alto | H9: Extremo
C10: Muy Baja | D10: Bajo | E10: Bajo | F10: Moderado | G10: Alto | H10: Extremo

Sheet CONTROL DE CAMBIOS
A1: CONTROL INICIAL
A2: VERSION | B2: FECHA | C2: DESCRIPCION | D2: ELABORÓ | E2: REVISÓ | F2: APROBÓ
A3: 1 | B3: 44443 | C3: Creacion de la matriz de riesgo. | D3: Información no encontrada | E3: Información no encontrada | F3: Información no encontrada
A4: CONTROL DEL CAMBIO
A5: VERSION | B5: FECHA | C5: DESCRIPCION- NATURALEZA DE CAMBIO | D5: ELABORÓ | E5: REVISÓ | F5: APROBÓ
A6: 2 - 7 | B6: Información no encontrada | C6: Información no encontrada | D6: Información no encontrada | E6: Información no encontrada | F6: Información no encontrada
A7: 8 | B7: 45355 | C7: Actualización del membrete en el pie de página, indicando el cambio de la dirección de la sede de Sabanagrande al municipio de Baranoa. Cambia a versión 8 | D7: Apoyo a la gestion SGC -MIPG | E7: Jefe de planeacion | F7: Dirección
A8: 8 | B8: 45371 | C8: Actualización del logo institucional dentro de los diferentes documentos, formatos y procedimientos de cada proceso del Instituto Se mantiene la versión 8 | D8: Apoyo a la gestion SGC -MIPG | E8: Jefe de planeacion | F8: Dirección
A9: 8 | B9: 45454 | C9: Actualización de imagen institucional (logo y membrete) según la Ley 2345 de 2023 Por medio de la cual se implementa el manual de identidad visual de las entidades estatales, se prohíben las marcas de gobierno y se establecen medidas para la austeridad en la publicidad estatal. Se realizan ajustes y eliminación de riesgos, 93 riesgos evaluados. Se mantiene la versión 8 | D9: Apoyo a la gestion SGC -MIPG | E9: Jefe de planeacion | F9: Dirección
A10: 9 | B10: 46235 | C10: Actualizacion de la matriz institucional de riesgos de acuerdo a la version 7 de funcion publica de septiembre de 2025 | D10: Apoyo a la gestion SGC -MIPG | E10: Jefe de planeacion

Sheet calificación_impacto_corrupción
A1: PROBABILIDAD | B1: FRECUENCIA | C1: IMPACTO | E1: RESPUESTA IMPACTO
A2: Casi seguro | B2: Se espera que el evento ocurra en la mayoría de las circunstancias. Más de 1 vez al año | E2: SI
A3: Probable | B3: Es viable que el evento ocurra en la mayoría de las circunstancias. Al menos una vez en el año | E3: NO
A4: Posible | B4: El evento podrá ocurrir en algún momento.Al menos una vez en los últimos 2 años
A5: Improbable | B5: El evento puede ocurrir en algún momento. Al menos una vez en los últimos 5 años
A6: Rara vez | B6: El evento puede ocurrir solo en circunstancias excepcionales (poco comunes o anormales)No se ha presentado en los últimos 5 años
A8: ¿Afectar al grupo de funcionarios del proceso? | B8: ¿Afectar el cumplimiento de metas y objetivos de la dependencia? | C8: ¿Afectar el cumplimiento de misión de la entidad? | D8: ¿Afectar el cumplimiento de la misión del sector al que pertenece la entidad? | E8: ¿Generar pérdida de confianza de la entidad, afectando su reputación? | F8: ¿Generar pérdida de recursos económicos? | G8: ¿Afectar la generación de los productos o la prestación de servicios? | H8: ¿Dar lugar al detrimento de calidad de vida de la comunidad por la pérdida del bien, servicios o recursos públicos? | I8: ¿Generar pérdida de información de la entidad? | J8: ¿Generar intervención de los órganos de control, de la Fiscalía u otro ente? | K8: ¿Dar lugar a procesos sancionatorios? | L8: ¿Dar lugar a procesos disciplinarios? | M8: ¿Dar lugar a procesos fiscales? | N8: ¿Dar lugar a procesos penales? | O8: ¿Generar pérdida de credibilidad del sector? | P8: ¿Ocasionar lesiones físicas o pérdida de vidas humanas? | Q8: ¿Afectar la imagen regional? | R8: ¿Afectar la imagen nacional? | S8: ¿Generar daño ambiental? | T8: IMPACTO
A9: SI | B9: SI | C9: SI | D9: NO | E9: SI | F9: SI | G9: SI | H9: SI | I9: NO | J9: SI | K9: SI | L9: SI | M9: SI | N9: SI | O9: SI | P9: NO | Q9: SI | R9: SI | S9: NO | T9: =COUNTIF(A9:S9,"SI") -> 15
T10: =COUNTIF(A10:S10,"SI") -> 0
T11: =COUNTIF(A11:S11,"SI") -> 0
A23: CRITERIOS DE DISEÑO | H23: CRITERIOS DE EJECUCIÓN
A24: Asignado / NO asignado | B24: Adecuado / Inadecuado | C24: Oportuna / Inoportuna | D24: Prevenir / Detectar / No es control | E24: Confiable / No confiable | F24: Se investigan oportunamente / No se investigan oportunamente | G24: Completa / Incompleta / No existe | H24: Fuerte | I24: cantidad de controles | J24: Controles ayudan a disminuir probabilidad | K24: Controles ayudan a disminuir impacto | M24: Tratamiento
A25: Asignado | B25: Adecuado | C25: Oportuna | D25: Prevenir | E25: Confiable | F25: Se investigan oportunamente | G25: Completa | H25: Moderado | I25: 0 | J25: Directamente | K25: Directamente | M25: Aceptar
A26: No asignado | B26: Inadecuado | C26: Inoportuno | D26: Detectar | E26: No confiable | F26: No se investigan oportunamente | G26: Incompleta | H26: Débil | I26: 1 | J26: No disminuye | K26: No disminuye | M26: Evitar
D27: No es un control | G27: No existe | I27: 2 | K27: Indirectamente | M27: Reducir (Compartir)
A28: Nota: Llenar para establecer el impacto inherente | I28: 3 | M28: Reducir (Mitigar)
I29: 4
I30: 5
I31: 6

Sheet Hoja1
A1: REF | B1: PROCESO | C1: RIESGOS GESTION | D1: RIESGOS SEGURIDAD DE LA INFORMACION | E1: RIESGOS FISCALES | F1: RIESGOS INTEGRIDAD PUBLICA | G1: RIESGOS POR PROCESO
A2: 1 | B2: GERENCIAL | C2: 3 | F2: 1 | G2: 4
A3: =1+A2 -> 2 | B3: Planeación | C3: 6 | G3: 6
A4: =1+A3 -> 3 | B4: REEDUCACION AL CONDUCTOR | C4: 1 | F4: 1 | G4: 2
A5: =1+A4 -> 4 | B5: ADMINISTRATIVO | C5: 2 | E5: 3 | F5: 1 | G5: 6
A6: =1+A5 -> 5 | B6: CONTRACTUAL | D6: 2 | E6: 2 | F6: 1 | G6: 5
A7: =1+A6 -> 6 | B7: GESTION DOCUMENTAL | C7: 2 | D7: 1 | F7: 1 | G7: 4
A8: =1+A7 -> 7 | B8: TIC | D8: 5 | F8: 1 | G8: 6
A9: =1+A8 -> 8 | B9: TODOS LOS PROCESOS | D9: 1 | G9: 1
A10: =1+A9 -> 9 | B10: SEGURIDADE VIAL | C10: 3 | D10: 1 | E10: 1 | G10: 5
A11: =1+A10 -> 10 | B11: CONTRAVENCIONES | C11: 1 | F11: 2 | G11: 3
A12: =1+A11 -> 11 | B12: GESTION FINANCIERA | C12: 6 | D12: 3 | E12: 2 | F12: 3 | G12: 14
A13: =1+A12 -> 12 | B13: TRAMITES | C13: 5 | D13: 2 | F13: 3 | G13: 10
A14: =1+A13 -> 13 | B14: TALENTO HUMANO | C14: 2 | D14: 2 | E14: 1 | F14: 1 | G14: 6
A15: =1+A14 -> 14 | B15: SOPORTE JURIDICO | C15: 4 | E15: 1 | F15: 1 | G15: 6
A16: =1+A15 -> 15 | B16: CONTROL DISCIPLINARIO | C16: 1 | D16: 1 | F16: 1 | G16: 3
A17: =1+A16 -> 16 | B17: GESTION COMERCIAL | C17: 2 | F17: 1 | G17: 3
A18: =1+A17 -> 17 | B18: EVALUACION Y CONTROL | C18: 2 | F18: 1 | G18: 3
C19: =SUM(C2:C18) -> 40 | D19: =SUM(D3:D18) -> 18 | E19: =SUM(E2:E18) -> 10 | F19: =SUM(F2:F18) -> 19 | G19: =SUM(G2:G18) -> 87
